BEGIN:VCALENDAR
VERSION:2.0
PRODID:-//Vital Spaces - ECPv6.15.20//NONSGML v1.0//EN
CALSCALE:GREGORIAN
METHOD:PUBLISH
X-WR-CALNAME:Vital Spaces
X-ORIGINAL-URL:https://www.vitalspaces.org
X-WR-CALDESC:Events for Vital Spaces
REFRESH-INTERVAL;VALUE=DURATION:PT1H
X-Robots-Tag:noindex
X-PUBLISHED-TTL:PT1H
BEGIN:VTIMEZONE
TZID:America/Detroit
BEGIN:DAYLIGHT
TZOFFSETFROM:-0500
TZOFFSETTO:-0400
TZNAME:EDT
DTSTART:20250309T070000
END:DAYLIGHT
BEGIN:STANDARD
TZOFFSETFROM:-0400
TZOFFSETTO:-0500
TZNAME:EST
DTSTART:20251102T060000
END:STANDARD
BEGIN:DAYLIGHT
TZOFFSETFROM:-0500
TZOFFSETTO:-0400
TZNAME:EDT
DTSTART:20260308T070000
END:DAYLIGHT
BEGIN:STANDARD
TZOFFSETFROM:-0400
TZOFFSETTO:-0500
TZNAME:EST
DTSTART:20261101T060000
END:STANDARD
BEGIN:DAYLIGHT
TZOFFSETFROM:-0500
TZOFFSETTO:-0400
TZNAME:EDT
DTSTART:20270314T070000
END:DAYLIGHT
BEGIN:STANDARD
TZOFFSETFROM:-0400
TZOFFSETTO:-0500
TZNAME:EST
DTSTART:20271107T060000
END:STANDARD
END:VTIMEZONE
BEGIN:VEVENT
DTSTART;TZID=America/Detroit:20260420T130000
DTEND;TZID=America/Detroit:20260420T150000
DTSTAMP:20260420T042639
CREATED:20260416T225642Z
LAST-MODIFIED:20260416T225657Z
UID:10000019-1776690000-1776697200@www.vitalspaces.org
SUMMARY:Monday Beading Circle with Lisa Delmonico
DESCRIPTION:Join Lisa Delmonico’s Beading Circle! All materials and guidance provided! \nEvery Monday | 1 – 3 PM \n3140 Cerrillos Rd
URL:https://www.vitalspaces.org/event/monday-beading-circle-with-lisa-delmonico/
LOCATION:Vital Spaces @ 3140\, Vital Spaces @ 3140 Cerrillos Rd ste b\, Santa Fe\, NM\, 87507
ATTACH;FMTTYPE=image/jpeg:https://www.vitalspaces.org/wp-content/uploads/2026/02/beading-circle.jpg
END:VEVENT
BEGIN:VEVENT
DTSTART;TZID=America/Detroit:20260421T160000
DTEND;TZID=America/Detroit:20260421T180000
DTSTAMP:20260420T042640
CREATED:20260416T215446Z
LAST-MODIFIED:20260418T174107Z
UID:10000003-1776787200-1776794400@www.vitalspaces.org
SUMMARY:Martes de Costura
DESCRIPTION:Martes de Costura \nEste taller te dará las habilidades básicas que necesitas\, ya sea que estés comenzando un nuevo pasatiempo o que desees hacer regalos personalizados.  \nPresentado por Mary Ann Soto de Mas Embroidery y Yolanda Ortega de Ave Azul Designs \nAsegúrese de reservar su lugar llamando al 505-660-5569 o enviando un mensaje de texto al 915-443-2117. \nMartes\, Abril 21 y luego cada otro martes!  \n 4 – 6 PM \n3140 Cerrillos Rd (junto a El Paisano)
URL:https://www.vitalspaces.org/event/martes-de-costura/2026-04-21/
LOCATION:Vital Spaces @ 3140\, Vital Spaces @ 3140 Cerrillos Rd ste b\, Santa Fe\, NM\, 87507
CATEGORIES:En Español
ATTACH;FMTTYPE=image/jpeg:https://www.vitalspaces.org/wp-content/uploads/2026/03/Screen-Shot-2026-03-31-at-7.26.30-PM.jpg
END:VEVENT
BEGIN:VEVENT
DTSTART;TZID=America/Detroit:20260421T183000
DTEND;TZID=America/Detroit:20260421T213000
DTSTAMP:20260420T042640
CREATED:20260416T231703Z
LAST-MODIFIED:20260416T231703Z
UID:10000022-1776796200-1776807000@www.vitalspaces.org
SUMMARY:Tuesday Night Drawing
DESCRIPTION:Join Santa Fe’s Tuesday Night Drawing group\, established in 1969\, at the Annex! \nDrawing sessions are held every Tuesday evening\, 6:30 to 9:30 in the Vital Spaces Annex Building located on the Santa Fe Midtown Campus\, formerly known as the Santa Fe University of Art & Design. \nOur models use a variety of poses\, varying in length from two-minute warmups to a final 40-minute pose over a three-hour period. \nThis weekly Santa Fe drawing group was started in 1969 by artist Eli Levin. Both amateur and professional artists have participated throughout the years. All skill levels are welcome from beginner to accomplished. The group is not a drawing class. It’s a shared figure-drawing opportunity. \nDrawing sessions are rarely cancelled\, but in the event that a session has to be cancelled a notice will be published here and on our Meetup site that is listed in the footer below. \nThe drawing fee is $10 per person\, payable with cash or PayPal at the door. \nNo photography allowed. \nSeating positions are available on a first-come basis. \nChairs are provided. The Annex does not have room to store the portable easels. Some artists use an extra chair as an easel. If you have your own easel or TV tray\, please bring it. \nBring your own art supplies. (paper\, pads\, drawing materials). \nDry media\, no toxic materials or sprays. Watercolor is OK. Bring a drop cloth if necessary to keep your area clean. \nSnacks are available (cookies\, chips\, etc.) if artists voluntarily bring snacks to share. \nBring your own beverages. \nBackground music: we have access to Spotify and the Apple Music Library to provide a broad selection of background music. \nConversation happens. It’s not just tolerated but encouraged. If you need total silence to draw\, you might not draw as well as usual here. \nOur Meetup Site \nTo reserve a spot at Tuesday Night Drawing\, go to our meetup site and RSVP “Going.”
URL:https://www.vitalspaces.org/event/tuesday-night-drawing/
LOCATION:Vital Spaces @ 3140\, Vital Spaces @ 3140 Cerrillos Rd ste b\, Santa Fe\, NM\, 87507
ATTACH;FMTTYPE=image/png:https://www.vitalspaces.org/wp-content/uploads/2026/04/Screen-Shot-2025-10-10-at-2.09.27-PM-1024x866-1.png
END:VEVENT
BEGIN:VEVENT
DTSTART;TZID=America/Detroit:20260422T150000
DTEND;TZID=America/Detroit:20260422T170000
DTSTAMP:20260420T042640
CREATED:20260416T221438Z
LAST-MODIFIED:20260416T221438Z
UID:10000010-1776870000-1776877200@www.vitalspaces.org
SUMMARY:Piece Together
DESCRIPTION:Join our studio artist\, Yolanda Ortega\, in learning how to make use of scraps in a fun and creative way! \n\n\n\n\n\n\nFree Workshops on: \nWednesday\, April 1 | 3 – 5 PM \nWednesday\, April 22 | 3 – 5 PM \n\n\n\nRSVP to: \nText: 915-443-2117 or Email: aveazuldesign@outlook.com \nAve Azul Designs\nYolanda Ortega
URL:https://www.vitalspaces.org/event/piece-together/
LOCATION:Vital Spaces @ 3140\, Vital Spaces @ 3140 Cerrillos Rd ste b\, Santa Fe\, NM\, 87507
ATTACH;FMTTYPE=image/jpeg:https://www.vitalspaces.org/wp-content/uploads/2026/04/Piece-Together-1.jpg
END:VEVENT
BEGIN:VEVENT
DTSTART;TZID=America/Detroit:20260422T173000
DTEND;TZID=America/Detroit:20260422T190000
DTSTAMP:20260420T042640
CREATED:20260416T231223Z
LAST-MODIFIED:20260418T174227Z
UID:10000021-1776879000-1776884400@www.vitalspaces.org
SUMMARY:Comadres! Un Club de Libros en Español
DESCRIPTION:Comadres es un club de lectura y círculo de conversación bisemanal en español creado para divertirse y explorar la literatura latina. Ven a socializar\, participar y explorar cultura mientras construimos comunidad. Como club de lectura bilingüe\, son bienvenidos niveles mixtos de español\, con tal de que estés abierto y te sientas cómodo leyendo en español.  \nComadres is a Spanish bi-weekly book club and conversation circle created to have fun and explore latino literature. Come and socialize\, engage\, and explore culture while building community. As a bilingual book club\, mixed levels of spanish are welcome\, as long as you are open to and comfortable to read in spanish  \nEmpezamos Gótico de Silvia Moreno-Garcia hasta capitulo 14. La proxima reunion es abril 22 a las 5:30 PM. \n3140 Cerrillos Rd (junto a El Paisano) \nAll levels of Spanish-speaking are welcome. \nThis group is facilitated by Graciela Gonzalez.
URL:https://www.vitalspaces.org/event/comadres-un-club-de-libros-en-espanol/2026-04-22/
LOCATION:Vital Spaces @ 3140\, Vital Spaces @ 3140 Cerrillos Rd ste b\, Santa Fe\, NM\, 87507
CATEGORIES:En Español
ATTACH;FMTTYPE=image/jpeg:https://www.vitalspaces.org/wp-content/uploads/2026/01/Comadres-1-scaled.jpg
END:VEVENT
BEGIN:VEVENT
DTSTART;TZID=America/Detroit:20260423T173000
DTEND;TZID=America/Detroit:20260423T190000
DTSTAMP:20260420T042640
CREATED:20260416T221227Z
LAST-MODIFIED:20260418T173302Z
UID:10000009-1776965400-1776970800@www.vitalspaces.org
SUMMARY:How To Do A Thing: Art is the Solution Grant Info Session
DESCRIPTION:Come learn about this year’s Art is the Solution: Coping with Chaos Grant! This is a free workshop and info session for all interested artists. \nApril 23 | 5:30 – 7 PM \n3140 Cerrillos Rd \nSnacks and Refreshments provided!
URL:https://www.vitalspaces.org/event/how-to-do-a-thing-art-is-the-solution-grant-info-session/
LOCATION:Vital Spaces @ 3140\, Vital Spaces @ 3140 Cerrillos Rd ste b\, Santa Fe\, NM\, 87507
ATTACH;FMTTYPE=image/jpeg:https://www.vitalspaces.org/wp-content/uploads/2026/04/HTDAT-AITS2026-final-scaled.jpg
END:VEVENT
BEGIN:VEVENT
DTSTART;TZID=America/Detroit:20260424T180000
DTEND;TZID=America/Detroit:20260424T200000
DTSTAMP:20260420T042640
CREATED:20260416T214635Z
LAST-MODIFIED:20260418T172832Z
UID:10000001-1777053600-1777060800@www.vitalspaces.org
SUMMARY:Art + Music Night
DESCRIPTION:A night of crafting\, community\, and culture. Ileana will be sharing her favorite psychedelic cumbia beats. Bring your own art supplies or use ours! All ages\, all levels. No agenda\, no instruction\, no pressure  <3 \nApril 24 | 6 – 8 PM \n3140 Cerrillos Rd
URL:https://www.vitalspaces.org/event/art-music-night/
LOCATION:Vital Spaces @ 3140\, Vital Spaces @ 3140 Cerrillos Rd ste b\, Santa Fe\, NM\, 87507
CATEGORIES:Home Feature
ATTACH;FMTTYPE=image/jpeg:https://www.vitalspaces.org/wp-content/uploads/2026/04/Art-music-night.jpg
END:VEVENT
BEGIN:VEVENT
DTSTART;TZID=America/Detroit:20260425T110000
DTEND;TZID=America/Detroit:20260425T130000
DTSTAMP:20260420T042640
CREATED:20260416T225346Z
LAST-MODIFIED:20260416T225749Z
UID:10000018-1777114800-1777122000@www.vitalspaces.org
SUMMARY:Burrito Brigade 101
DESCRIPTION:Drop in to learn about who we are\, meet current members\, and find ways to plug into our weekly\nefforts to care for our community. A relaxed space to connect\, ask questions\, and work on projects together. \nCo-organized with our comrades at Santa Fe Liberation School!\nStop by to connect with an organizer and learn more about building community power through radical education! \nEVERYONE IS WELCOME! \nApril 8th | 7:30PM\nApril 25th | 11 AM \n3140 Cerrillos Rd
URL:https://www.vitalspaces.org/event/burrito-brigade-101/
LOCATION:Vital Spaces @ 3140\, Vital Spaces @ 3140 Cerrillos Rd ste b\, Santa Fe\, NM\, 87507
ATTACH;FMTTYPE=image/jpeg:https://www.vitalspaces.org/wp-content/uploads/2026/04/671653513_1438834284093001_5251226948139157257_n.jpg
END:VEVENT
BEGIN:VEVENT
DTSTART;TZID=America/Detroit:20260426T120000
DTEND;TZID=America/Detroit:20260426T140000
DTSTAMP:20260420T042640
CREATED:20260416T223844Z
LAST-MODIFIED:20260418T172712Z
UID:10000015-1777204800-1777212000@www.vitalspaces.org
SUMMARY:Taller de Pintura Para Niños
DESCRIPTION:Se invita a los niños a unirse a esta clase\, impartida por Alfonso Medina\, para aprender a pintar con técnica fluida. \nSe recomienda usar ropa que pueda ensuciarse. \nAbril 26 | 12 – 2 pm \n3140 Cerrillos Rd \n(junto a El Paisano)
URL:https://www.vitalspaces.org/event/1668/
LOCATION:Vital Spaces @ 3140\, Vital Spaces @ 3140 Cerrillos Rd ste b\, Santa Fe\, NM\, 87507
CATEGORIES:En Español
ATTACH;FMTTYPE=image/png:https://www.vitalspaces.org/wp-content/uploads/2026/03/Taller-de-pintura-1.png
END:VEVENT
BEGIN:VEVENT
DTSTART;TZID=America/Detroit:20260426T192800
DTEND;TZID=America/Detroit:20260426T222800
DTSTAMP:20260420T042640
CREATED:20260416T220209Z
LAST-MODIFIED:20260418T172531Z
UID:10000005-1777231680-1777242480@www.vitalspaces.org
SUMMARY:Taurus Season Celebration with Oriana Lee
DESCRIPTION:TAURUS SEASON CELEBRATION ♉️ \nIndulge. Ground. Celebrate. \n📍Vital Spaces 3140 Cerrillos Rd \n📆 April 26 \n⏰ 7:28 PM – 10:28 PM \n  \n🧘🏻‍♀️ Mindfulness w/Tina Sanchez\, LlCSw-S \n🎤 Karaoke / Dream Queen (Karthasis Karoake) \n🎨 Art Making \n🎲 Games \n🎶 Music \n🍽 Food (Masa Padre) \n✨ Good Energy + Community \n  \n♉️ Tauruses — FREE \n✨ All Other Signs — $10
URL:https://www.vitalspaces.org/event/taurus-season-celebration-with-oriana-lee/
LOCATION:Vital Spaces @ 3140\, Vital Spaces @ 3140 Cerrillos Rd ste b\, Santa Fe\, NM\, 87507
ATTACH;FMTTYPE=image/jpeg:https://www.vitalspaces.org/wp-content/uploads/2026/03/Warm_Taurus_Season_Announcement_Poster.jpg
END:VEVENT
BEGIN:VEVENT
DTSTART;TZID=America/Detroit:20260427T130000
DTEND;TZID=America/Detroit:20260427T150000
DTSTAMP:20260420T042640
CREATED:20260416T230952Z
LAST-MODIFIED:20260418T172424Z
UID:10000020-1777294800-1777302000@www.vitalspaces.org
SUMMARY:Monday Beading Circle with Lisa Delmonico
DESCRIPTION:Join Lisa Delmonico’s Beading Circle! All materials and guidance provided! \nEvery Monday | 1 – 3 PM \n3140 Cerrillos Rd
URL:https://www.vitalspaces.org/event/monday-beading-circle-with-lisa-delmonico-2/2026-04-27/
LOCATION:Vital Spaces @ 3140\, Vital Spaces @ 3140 Cerrillos Rd ste b\, Santa Fe\, NM\, 87507
ATTACH;FMTTYPE=image/jpeg:https://www.vitalspaces.org/wp-content/uploads/2026/02/beading-circle.jpg
END:VEVENT
BEGIN:VEVENT
DTSTART;TZID=America/Detroit:20260428T183000
DTEND;TZID=America/Detroit:20260428T213000
DTSTAMP:20260420T042640
CREATED:20260416T231759Z
LAST-MODIFIED:20260418T172219Z
UID:10000023-1777401000-1777411800@www.vitalspaces.org
SUMMARY:Tuesday Night Drawing
DESCRIPTION:Join Santa Fe’s Tuesday Night Drawing group\, established in 1969\, at the Annex! \nDrawing sessions are held every Tuesday evening\, 6:30 to 9:30 in the Vital Spaces Annex Building located on the Santa Fe Midtown Campus\, formerly known as the Santa Fe University of Art & Design. \nOur models use a variety of poses\, varying in length from two-minute warmups to a final 40-minute pose over a three-hour period. \nThis weekly Santa Fe drawing group was started in 1969 by artist Eli Levin. Both amateur and professional artists have participated throughout the years. All skill levels are welcome from beginner to accomplished. The group is not a drawing class. It’s a shared figure-drawing opportunity. \nDrawing sessions are rarely cancelled\, but in the event that a session has to be cancelled a notice will be published here and on our Meetup site that is listed in the footer below. \nThe drawing fee is $10 per person\, payable with cash or PayPal at the door. \nNo photography allowed. \nSeating positions are available on a first-come basis. \nChairs are provided. The Annex does not have room to store the portable easels. Some artists use an extra chair as an easel. If you have your own easel or TV tray\, please bring it. \nBring your own art supplies. (paper\, pads\, drawing materials). \nDry media\, no toxic materials or sprays. Watercolor is OK. Bring a drop cloth if necessary to keep your area clean. \nSnacks are available (cookies\, chips\, etc.) if artists voluntarily bring snacks to share. \nBring your own beverages. \nBackground music: we have access to Spotify and the Apple Music Library to provide a broad selection of background music. \nConversation happens. It’s not just tolerated but encouraged. If you need total silence to draw\, you might not draw as well as usual here. \nOur Meetup Site \nTo reserve a spot at Tuesday Night Drawing\, go to our meetup site and RSVP “Going.”
URL:https://www.vitalspaces.org/event/tuesday-night-drawing-2/2026-04-28/
LOCATION:Vital Spaces @ 3140\, Vital Spaces @ 3140 Cerrillos Rd ste b\, Santa Fe\, NM\, 87507
ATTACH;FMTTYPE=image/png:https://www.vitalspaces.org/wp-content/uploads/2026/04/Screen-Shot-2025-10-10-at-2.09.27-PM-1024x866-1.png
END:VEVENT
BEGIN:VEVENT
DTSTART;TZID=America/Detroit:20260429T180000
DTEND;TZID=America/Detroit:20260429T193000
DTSTAMP:20260420T042640
CREATED:20260417T013212Z
LAST-MODIFIED:20260417T013212Z
UID:10000024-1777485600-1777491000@www.vitalspaces.org
SUMMARY:Modern Marketing with iLa Minori
DESCRIPTION:Let’s be honest: you’d rather be in the studio than staring at a screen. This free workshop is designed for artists\, makers\, and musicians who want to grow their audience without losing their soul to the algorithm. We’ll show you how to use Instagram and Mailing Lists as tools for connection\, not just “content.”\n\n\n\nApril 29 | 6 – 7:30 PM\n3140 Cerrillos Rd
URL:https://www.vitalspaces.org/event/modern-marketing-with-ila-minori/
LOCATION:Vital Spaces @ 3140\, Vital Spaces @ 3140 Cerrillos Rd ste b\, Santa Fe\, NM\, 87507
ATTACH;FMTTYPE=image/png:https://www.vitalspaces.org/wp-content/uploads/2026/04/modernmarketing.png
END:VEVENT
END:VCALENDAR