BEGIN:VCALENDAR
VERSION:2.0
PRODID:-//Vital Spaces - ECPv6.15.20//NONSGML v1.0//EN
CALSCALE:GREGORIAN
METHOD:PUBLISH
X-WR-CALNAME:Vital Spaces
X-ORIGINAL-URL:https://www.vitalspaces.org
X-WR-CALDESC:Events for Vital Spaces
REFRESH-INTERVAL;VALUE=DURATION:PT1H
X-Robots-Tag:noindex
X-PUBLISHED-TTL:PT1H
BEGIN:VTIMEZONE
TZID:America/Detroit
BEGIN:DAYLIGHT
TZOFFSETFROM:-0500
TZOFFSETTO:-0400
TZNAME:EDT
DTSTART:20290311T070000
END:DAYLIGHT
BEGIN:STANDARD
TZOFFSETFROM:-0400
TZOFFSETTO:-0500
TZNAME:EST
DTSTART:20291104T060000
END:STANDARD
BEGIN:DAYLIGHT
TZOFFSETFROM:-0500
TZOFFSETTO:-0400
TZNAME:EDT
DTSTART:20300310T070000
END:DAYLIGHT
BEGIN:STANDARD
TZOFFSETFROM:-0400
TZOFFSETTO:-0500
TZNAME:EST
DTSTART:20301103T060000
END:STANDARD
BEGIN:DAYLIGHT
TZOFFSETFROM:-0500
TZOFFSETTO:-0400
TZNAME:EDT
DTSTART:20310309T070000
END:DAYLIGHT
BEGIN:STANDARD
TZOFFSETFROM:-0400
TZOFFSETTO:-0500
TZNAME:EST
DTSTART:20311102T060000
END:STANDARD
BEGIN:DAYLIGHT
TZOFFSETFROM:-0500
TZOFFSETTO:-0400
TZNAME:EDT
DTSTART:20320314T070000
END:DAYLIGHT
BEGIN:STANDARD
TZOFFSETFROM:-0400
TZOFFSETTO:-0500
TZNAME:EST
DTSTART:20321107T060000
END:STANDARD
END:VTIMEZONE
BEGIN:VEVENT
DTSTART;TZID=America/Detroit:20300316T110000
DTEND;TZID=America/Detroit:20300316T130000
DTSTAMP:20260420T033736
CREATED:20260416T222630Z
LAST-MODIFIED:20260418T173043Z
UID:10000590-1899889200-1899896400@www.vitalspaces.org
SUMMARY:Free Community Art Closet
DESCRIPTION:Since 2020\, Vital Spaces has been giving away new and donated art supplies to hundreds of Santa Fe creatives\, youths\, and educators every month. This project helps provide supplies for those in need and also offers our community members a chance to reduce\, reuse and recycle! \nThis month\, we’re loaded up with lots of new finds andunique items! Everything from books\, magazines\, paint\, markers\, pencils\, paper\, yarn\, fabric\, decor\, wood pieces\, containers\, art kits\, and so much more. We also have some new supplies to offer such as crayons\, watercolor sets\, watercolor paper\, and canvases. \nThis event is free and open to everyone! Bring your shopping bags and bring your friends\, find some treasures\, and get inspired! \nAlready have too much stuff? We’ll take it! Donate any lightly used art supplies or other items every Thursday from 2pm to 4pm at our Annex Gallery. Or schedule a drop-off appointment by emailing us: contact@vitalspaces.org.
URL:https://www.vitalspaces.org/event/free-community-art-closet/2030-03-16/
LOCATION:Vital Spaces @ the Annex\, Vital Spaces 1600 St Michael's Dr\, Santa Fe\, NM\, 87505
CATEGORIES:Home Feature
ATTACH;FMTTYPE=image/jpeg:https://www.vitalspaces.org/wp-content/uploads/2024/12/Website-Art-Closet.jpg
END:VEVENT
BEGIN:VEVENT
DTSTART;TZID=America/Detroit:20300420T110000
DTEND;TZID=America/Detroit:20300420T130000
DTSTAMP:20260420T033736
CREATED:20260416T222630Z
LAST-MODIFIED:20260418T173043Z
UID:10000591-1902913200-1902920400@www.vitalspaces.org
SUMMARY:Free Community Art Closet
DESCRIPTION:Since 2020\, Vital Spaces has been giving away new and donated art supplies to hundreds of Santa Fe creatives\, youths\, and educators every month. This project helps provide supplies for those in need and also offers our community members a chance to reduce\, reuse and recycle! \nThis month\, we’re loaded up with lots of new finds andunique items! Everything from books\, magazines\, paint\, markers\, pencils\, paper\, yarn\, fabric\, decor\, wood pieces\, containers\, art kits\, and so much more. We also have some new supplies to offer such as crayons\, watercolor sets\, watercolor paper\, and canvases. \nThis event is free and open to everyone! Bring your shopping bags and bring your friends\, find some treasures\, and get inspired! \nAlready have too much stuff? We’ll take it! Donate any lightly used art supplies or other items every Thursday from 2pm to 4pm at our Annex Gallery. Or schedule a drop-off appointment by emailing us: contact@vitalspaces.org.
URL:https://www.vitalspaces.org/event/free-community-art-closet/2030-04-20/
LOCATION:Vital Spaces @ the Annex\, Vital Spaces 1600 St Michael's Dr\, Santa Fe\, NM\, 87505
CATEGORIES:Home Feature
ATTACH;FMTTYPE=image/jpeg:https://www.vitalspaces.org/wp-content/uploads/2024/12/Website-Art-Closet.jpg
END:VEVENT
BEGIN:VEVENT
DTSTART;TZID=America/Detroit:20300518T110000
DTEND;TZID=America/Detroit:20300518T130000
DTSTAMP:20260420T033736
CREATED:20260416T222630Z
LAST-MODIFIED:20260418T173043Z
UID:10000592-1905332400-1905339600@www.vitalspaces.org
SUMMARY:Free Community Art Closet
DESCRIPTION:Since 2020\, Vital Spaces has been giving away new and donated art supplies to hundreds of Santa Fe creatives\, youths\, and educators every month. This project helps provide supplies for those in need and also offers our community members a chance to reduce\, reuse and recycle! \nThis month\, we’re loaded up with lots of new finds andunique items! Everything from books\, magazines\, paint\, markers\, pencils\, paper\, yarn\, fabric\, decor\, wood pieces\, containers\, art kits\, and so much more. We also have some new supplies to offer such as crayons\, watercolor sets\, watercolor paper\, and canvases. \nThis event is free and open to everyone! Bring your shopping bags and bring your friends\, find some treasures\, and get inspired! \nAlready have too much stuff? We’ll take it! Donate any lightly used art supplies or other items every Thursday from 2pm to 4pm at our Annex Gallery. Or schedule a drop-off appointment by emailing us: contact@vitalspaces.org.
URL:https://www.vitalspaces.org/event/free-community-art-closet/2030-05-18/
LOCATION:Vital Spaces @ the Annex\, Vital Spaces 1600 St Michael's Dr\, Santa Fe\, NM\, 87505
CATEGORIES:Home Feature
ATTACH;FMTTYPE=image/jpeg:https://www.vitalspaces.org/wp-content/uploads/2024/12/Website-Art-Closet.jpg
END:VEVENT
BEGIN:VEVENT
DTSTART;TZID=America/Detroit:20300615T110000
DTEND;TZID=America/Detroit:20300615T130000
DTSTAMP:20260420T033736
CREATED:20260416T222630Z
LAST-MODIFIED:20260418T173043Z
UID:10000593-1907751600-1907758800@www.vitalspaces.org
SUMMARY:Free Community Art Closet
DESCRIPTION:Since 2020\, Vital Spaces has been giving away new and donated art supplies to hundreds of Santa Fe creatives\, youths\, and educators every month. This project helps provide supplies for those in need and also offers our community members a chance to reduce\, reuse and recycle! \nThis month\, we’re loaded up with lots of new finds andunique items! Everything from books\, magazines\, paint\, markers\, pencils\, paper\, yarn\, fabric\, decor\, wood pieces\, containers\, art kits\, and so much more. We also have some new supplies to offer such as crayons\, watercolor sets\, watercolor paper\, and canvases. \nThis event is free and open to everyone! Bring your shopping bags and bring your friends\, find some treasures\, and get inspired! \nAlready have too much stuff? We’ll take it! Donate any lightly used art supplies or other items every Thursday from 2pm to 4pm at our Annex Gallery. Or schedule a drop-off appointment by emailing us: contact@vitalspaces.org.
URL:https://www.vitalspaces.org/event/free-community-art-closet/2030-06-15/
LOCATION:Vital Spaces @ the Annex\, Vital Spaces 1600 St Michael's Dr\, Santa Fe\, NM\, 87505
CATEGORIES:Home Feature
ATTACH;FMTTYPE=image/jpeg:https://www.vitalspaces.org/wp-content/uploads/2024/12/Website-Art-Closet.jpg
END:VEVENT
BEGIN:VEVENT
DTSTART;TZID=America/Detroit:20300720T110000
DTEND;TZID=America/Detroit:20300720T130000
DTSTAMP:20260420T033736
CREATED:20260416T222630Z
LAST-MODIFIED:20260418T173043Z
UID:10000594-1910775600-1910782800@www.vitalspaces.org
SUMMARY:Free Community Art Closet
DESCRIPTION:Since 2020\, Vital Spaces has been giving away new and donated art supplies to hundreds of Santa Fe creatives\, youths\, and educators every month. This project helps provide supplies for those in need and also offers our community members a chance to reduce\, reuse and recycle! \nThis month\, we’re loaded up with lots of new finds andunique items! Everything from books\, magazines\, paint\, markers\, pencils\, paper\, yarn\, fabric\, decor\, wood pieces\, containers\, art kits\, and so much more. We also have some new supplies to offer such as crayons\, watercolor sets\, watercolor paper\, and canvases. \nThis event is free and open to everyone! Bring your shopping bags and bring your friends\, find some treasures\, and get inspired! \nAlready have too much stuff? We’ll take it! Donate any lightly used art supplies or other items every Thursday from 2pm to 4pm at our Annex Gallery. Or schedule a drop-off appointment by emailing us: contact@vitalspaces.org.
URL:https://www.vitalspaces.org/event/free-community-art-closet/2030-07-20/
LOCATION:Vital Spaces @ the Annex\, Vital Spaces 1600 St Michael's Dr\, Santa Fe\, NM\, 87505
CATEGORIES:Home Feature
ATTACH;FMTTYPE=image/jpeg:https://www.vitalspaces.org/wp-content/uploads/2024/12/Website-Art-Closet.jpg
END:VEVENT
BEGIN:VEVENT
DTSTART;TZID=America/Detroit:20300817T110000
DTEND;TZID=America/Detroit:20300817T130000
DTSTAMP:20260420T033736
CREATED:20260416T222630Z
LAST-MODIFIED:20260418T173043Z
UID:10000595-1913194800-1913202000@www.vitalspaces.org
SUMMARY:Free Community Art Closet
DESCRIPTION:Since 2020\, Vital Spaces has been giving away new and donated art supplies to hundreds of Santa Fe creatives\, youths\, and educators every month. This project helps provide supplies for those in need and also offers our community members a chance to reduce\, reuse and recycle! \nThis month\, we’re loaded up with lots of new finds andunique items! Everything from books\, magazines\, paint\, markers\, pencils\, paper\, yarn\, fabric\, decor\, wood pieces\, containers\, art kits\, and so much more. We also have some new supplies to offer such as crayons\, watercolor sets\, watercolor paper\, and canvases. \nThis event is free and open to everyone! Bring your shopping bags and bring your friends\, find some treasures\, and get inspired! \nAlready have too much stuff? We’ll take it! Donate any lightly used art supplies or other items every Thursday from 2pm to 4pm at our Annex Gallery. Or schedule a drop-off appointment by emailing us: contact@vitalspaces.org.
URL:https://www.vitalspaces.org/event/free-community-art-closet/2030-08-17/
LOCATION:Vital Spaces @ the Annex\, Vital Spaces 1600 St Michael's Dr\, Santa Fe\, NM\, 87505
CATEGORIES:Home Feature
ATTACH;FMTTYPE=image/jpeg:https://www.vitalspaces.org/wp-content/uploads/2024/12/Website-Art-Closet.jpg
END:VEVENT
BEGIN:VEVENT
DTSTART;TZID=America/Detroit:20300921T110000
DTEND;TZID=America/Detroit:20300921T130000
DTSTAMP:20260420T033736
CREATED:20260416T222630Z
LAST-MODIFIED:20260418T173043Z
UID:10000596-1916218800-1916226000@www.vitalspaces.org
SUMMARY:Free Community Art Closet
DESCRIPTION:Since 2020\, Vital Spaces has been giving away new and donated art supplies to hundreds of Santa Fe creatives\, youths\, and educators every month. This project helps provide supplies for those in need and also offers our community members a chance to reduce\, reuse and recycle! \nThis month\, we’re loaded up with lots of new finds andunique items! Everything from books\, magazines\, paint\, markers\, pencils\, paper\, yarn\, fabric\, decor\, wood pieces\, containers\, art kits\, and so much more. We also have some new supplies to offer such as crayons\, watercolor sets\, watercolor paper\, and canvases. \nThis event is free and open to everyone! Bring your shopping bags and bring your friends\, find some treasures\, and get inspired! \nAlready have too much stuff? We’ll take it! Donate any lightly used art supplies or other items every Thursday from 2pm to 4pm at our Annex Gallery. Or schedule a drop-off appointment by emailing us: contact@vitalspaces.org.
URL:https://www.vitalspaces.org/event/free-community-art-closet/2030-09-21/
LOCATION:Vital Spaces @ the Annex\, Vital Spaces 1600 St Michael's Dr\, Santa Fe\, NM\, 87505
CATEGORIES:Home Feature
ATTACH;FMTTYPE=image/jpeg:https://www.vitalspaces.org/wp-content/uploads/2024/12/Website-Art-Closet.jpg
END:VEVENT
BEGIN:VEVENT
DTSTART;TZID=America/Detroit:20301019T110000
DTEND;TZID=America/Detroit:20301019T130000
DTSTAMP:20260420T033736
CREATED:20260416T222630Z
LAST-MODIFIED:20260418T173043Z
UID:10000597-1918638000-1918645200@www.vitalspaces.org
SUMMARY:Free Community Art Closet
DESCRIPTION:Since 2020\, Vital Spaces has been giving away new and donated art supplies to hundreds of Santa Fe creatives\, youths\, and educators every month. This project helps provide supplies for those in need and also offers our community members a chance to reduce\, reuse and recycle! \nThis month\, we’re loaded up with lots of new finds andunique items! Everything from books\, magazines\, paint\, markers\, pencils\, paper\, yarn\, fabric\, decor\, wood pieces\, containers\, art kits\, and so much more. We also have some new supplies to offer such as crayons\, watercolor sets\, watercolor paper\, and canvases. \nThis event is free and open to everyone! Bring your shopping bags and bring your friends\, find some treasures\, and get inspired! \nAlready have too much stuff? We’ll take it! Donate any lightly used art supplies or other items every Thursday from 2pm to 4pm at our Annex Gallery. Or schedule a drop-off appointment by emailing us: contact@vitalspaces.org.
URL:https://www.vitalspaces.org/event/free-community-art-closet/2030-10-19/
LOCATION:Vital Spaces @ the Annex\, Vital Spaces 1600 St Michael's Dr\, Santa Fe\, NM\, 87505
CATEGORIES:Home Feature
ATTACH;FMTTYPE=image/jpeg:https://www.vitalspaces.org/wp-content/uploads/2024/12/Website-Art-Closet.jpg
END:VEVENT
BEGIN:VEVENT
DTSTART;TZID=America/Detroit:20301116T110000
DTEND;TZID=America/Detroit:20301116T130000
DTSTAMP:20260420T033736
CREATED:20260416T222630Z
LAST-MODIFIED:20260418T173043Z
UID:10000598-1921057200-1921064400@www.vitalspaces.org
SUMMARY:Free Community Art Closet
DESCRIPTION:Since 2020\, Vital Spaces has been giving away new and donated art supplies to hundreds of Santa Fe creatives\, youths\, and educators every month. This project helps provide supplies for those in need and also offers our community members a chance to reduce\, reuse and recycle! \nThis month\, we’re loaded up with lots of new finds andunique items! Everything from books\, magazines\, paint\, markers\, pencils\, paper\, yarn\, fabric\, decor\, wood pieces\, containers\, art kits\, and so much more. We also have some new supplies to offer such as crayons\, watercolor sets\, watercolor paper\, and canvases. \nThis event is free and open to everyone! Bring your shopping bags and bring your friends\, find some treasures\, and get inspired! \nAlready have too much stuff? We’ll take it! Donate any lightly used art supplies or other items every Thursday from 2pm to 4pm at our Annex Gallery. Or schedule a drop-off appointment by emailing us: contact@vitalspaces.org.
URL:https://www.vitalspaces.org/event/free-community-art-closet/2030-11-16/
LOCATION:Vital Spaces @ the Annex\, Vital Spaces 1600 St Michael's Dr\, Santa Fe\, NM\, 87505
CATEGORIES:Home Feature
ATTACH;FMTTYPE=image/jpeg:https://www.vitalspaces.org/wp-content/uploads/2024/12/Website-Art-Closet.jpg
END:VEVENT
BEGIN:VEVENT
DTSTART;TZID=America/Detroit:20301221T110000
DTEND;TZID=America/Detroit:20301221T130000
DTSTAMP:20260420T033736
CREATED:20260416T222630Z
LAST-MODIFIED:20260418T173043Z
UID:10000599-1924081200-1924088400@www.vitalspaces.org
SUMMARY:Free Community Art Closet
DESCRIPTION:Since 2020\, Vital Spaces has been giving away new and donated art supplies to hundreds of Santa Fe creatives\, youths\, and educators every month. This project helps provide supplies for those in need and also offers our community members a chance to reduce\, reuse and recycle! \nThis month\, we’re loaded up with lots of new finds andunique items! Everything from books\, magazines\, paint\, markers\, pencils\, paper\, yarn\, fabric\, decor\, wood pieces\, containers\, art kits\, and so much more. We also have some new supplies to offer such as crayons\, watercolor sets\, watercolor paper\, and canvases. \nThis event is free and open to everyone! Bring your shopping bags and bring your friends\, find some treasures\, and get inspired! \nAlready have too much stuff? We’ll take it! Donate any lightly used art supplies or other items every Thursday from 2pm to 4pm at our Annex Gallery. Or schedule a drop-off appointment by emailing us: contact@vitalspaces.org.
URL:https://www.vitalspaces.org/event/free-community-art-closet/2030-12-21/
LOCATION:Vital Spaces @ the Annex\, Vital Spaces 1600 St Michael's Dr\, Santa Fe\, NM\, 87505
CATEGORIES:Home Feature
ATTACH;FMTTYPE=image/jpeg:https://www.vitalspaces.org/wp-content/uploads/2024/12/Website-Art-Closet.jpg
END:VEVENT
BEGIN:VEVENT
DTSTART;TZID=America/Detroit:20310118T110000
DTEND;TZID=America/Detroit:20310118T130000
DTSTAMP:20260420T033736
CREATED:20260416T222630Z
LAST-MODIFIED:20260418T173043Z
UID:10000600-1926500400-1926507600@www.vitalspaces.org
SUMMARY:Free Community Art Closet
DESCRIPTION:Since 2020\, Vital Spaces has been giving away new and donated art supplies to hundreds of Santa Fe creatives\, youths\, and educators every month. This project helps provide supplies for those in need and also offers our community members a chance to reduce\, reuse and recycle! \nThis month\, we’re loaded up with lots of new finds andunique items! Everything from books\, magazines\, paint\, markers\, pencils\, paper\, yarn\, fabric\, decor\, wood pieces\, containers\, art kits\, and so much more. We also have some new supplies to offer such as crayons\, watercolor sets\, watercolor paper\, and canvases. \nThis event is free and open to everyone! Bring your shopping bags and bring your friends\, find some treasures\, and get inspired! \nAlready have too much stuff? We’ll take it! Donate any lightly used art supplies or other items every Thursday from 2pm to 4pm at our Annex Gallery. Or schedule a drop-off appointment by emailing us: contact@vitalspaces.org.
URL:https://www.vitalspaces.org/event/free-community-art-closet/2031-01-18/
LOCATION:Vital Spaces @ the Annex\, Vital Spaces 1600 St Michael's Dr\, Santa Fe\, NM\, 87505
CATEGORIES:Home Feature
ATTACH;FMTTYPE=image/jpeg:https://www.vitalspaces.org/wp-content/uploads/2024/12/Website-Art-Closet.jpg
END:VEVENT
BEGIN:VEVENT
DTSTART;TZID=America/Detroit:20310215T110000
DTEND;TZID=America/Detroit:20310215T130000
DTSTAMP:20260420T033736
CREATED:20260416T222630Z
LAST-MODIFIED:20260418T173043Z
UID:10000601-1928919600-1928926800@www.vitalspaces.org
SUMMARY:Free Community Art Closet
DESCRIPTION:Since 2020\, Vital Spaces has been giving away new and donated art supplies to hundreds of Santa Fe creatives\, youths\, and educators every month. This project helps provide supplies for those in need and also offers our community members a chance to reduce\, reuse and recycle! \nThis month\, we’re loaded up with lots of new finds andunique items! Everything from books\, magazines\, paint\, markers\, pencils\, paper\, yarn\, fabric\, decor\, wood pieces\, containers\, art kits\, and so much more. We also have some new supplies to offer such as crayons\, watercolor sets\, watercolor paper\, and canvases. \nThis event is free and open to everyone! Bring your shopping bags and bring your friends\, find some treasures\, and get inspired! \nAlready have too much stuff? We’ll take it! Donate any lightly used art supplies or other items every Thursday from 2pm to 4pm at our Annex Gallery. Or schedule a drop-off appointment by emailing us: contact@vitalspaces.org.
URL:https://www.vitalspaces.org/event/free-community-art-closet/2031-02-15/
LOCATION:Vital Spaces @ the Annex\, Vital Spaces 1600 St Michael's Dr\, Santa Fe\, NM\, 87505
CATEGORIES:Home Feature
ATTACH;FMTTYPE=image/jpeg:https://www.vitalspaces.org/wp-content/uploads/2024/12/Website-Art-Closet.jpg
END:VEVENT
BEGIN:VEVENT
DTSTART;TZID=America/Detroit:20310315T110000
DTEND;TZID=America/Detroit:20310315T130000
DTSTAMP:20260420T033736
CREATED:20260416T222630Z
LAST-MODIFIED:20260418T173043Z
UID:10000602-1931338800-1931346000@www.vitalspaces.org
SUMMARY:Free Community Art Closet
DESCRIPTION:Since 2020\, Vital Spaces has been giving away new and donated art supplies to hundreds of Santa Fe creatives\, youths\, and educators every month. This project helps provide supplies for those in need and also offers our community members a chance to reduce\, reuse and recycle! \nThis month\, we’re loaded up with lots of new finds andunique items! Everything from books\, magazines\, paint\, markers\, pencils\, paper\, yarn\, fabric\, decor\, wood pieces\, containers\, art kits\, and so much more. We also have some new supplies to offer such as crayons\, watercolor sets\, watercolor paper\, and canvases. \nThis event is free and open to everyone! Bring your shopping bags and bring your friends\, find some treasures\, and get inspired! \nAlready have too much stuff? We’ll take it! Donate any lightly used art supplies or other items every Thursday from 2pm to 4pm at our Annex Gallery. Or schedule a drop-off appointment by emailing us: contact@vitalspaces.org.
URL:https://www.vitalspaces.org/event/free-community-art-closet/2031-03-15/
LOCATION:Vital Spaces @ the Annex\, Vital Spaces 1600 St Michael's Dr\, Santa Fe\, NM\, 87505
CATEGORIES:Home Feature
ATTACH;FMTTYPE=image/jpeg:https://www.vitalspaces.org/wp-content/uploads/2024/12/Website-Art-Closet.jpg
END:VEVENT
END:VCALENDAR