BEGIN:VCALENDAR
VERSION:2.0
PRODID:-//Vital Spaces - ECPv6.15.20//NONSGML v1.0//EN
CALSCALE:GREGORIAN
METHOD:PUBLISH
X-WR-CALNAME:Vital Spaces
X-ORIGINAL-URL:https://www.vitalspaces.org
X-WR-CALDESC:Events for Vital Spaces
REFRESH-INTERVAL;VALUE=DURATION:PT1H
X-Robots-Tag:noindex
X-PUBLISHED-TTL:PT1H
BEGIN:VTIMEZONE
TZID:America/Detroit
BEGIN:DAYLIGHT
TZOFFSETFROM:-0500
TZOFFSETTO:-0400
TZNAME:EDT
DTSTART:20250309T070000
END:DAYLIGHT
BEGIN:STANDARD
TZOFFSETFROM:-0400
TZOFFSETTO:-0500
TZNAME:EST
DTSTART:20251102T060000
END:STANDARD
BEGIN:DAYLIGHT
TZOFFSETFROM:-0500
TZOFFSETTO:-0400
TZNAME:EDT
DTSTART:20260308T070000
END:DAYLIGHT
BEGIN:STANDARD
TZOFFSETFROM:-0400
TZOFFSETTO:-0500
TZNAME:EST
DTSTART:20261101T060000
END:STANDARD
BEGIN:DAYLIGHT
TZOFFSETFROM:-0500
TZOFFSETTO:-0400
TZNAME:EDT
DTSTART:20270314T070000
END:DAYLIGHT
BEGIN:STANDARD
TZOFFSETFROM:-0400
TZOFFSETTO:-0500
TZNAME:EST
DTSTART:20271107T060000
END:STANDARD
END:VTIMEZONE
BEGIN:VEVENT
DTSTART;TZID=America/Detroit:20260519T160000
DTEND;TZID=America/Detroit:20260519T180000
DTSTAMP:20260420T020151
CREATED:20260416T215446Z
LAST-MODIFIED:20260418T174107Z
UID:10000604-1779206400-1779213600@www.vitalspaces.org
SUMMARY:Martes de Costura
DESCRIPTION:Martes de Costura \nEste taller te dará las habilidades básicas que necesitas\, ya sea que estés comenzando un nuevo pasatiempo o que desees hacer regalos personalizados.  \nPresentado por Mary Ann Soto de Mas Embroidery y Yolanda Ortega de Ave Azul Designs \nAsegúrese de reservar su lugar llamando al 505-660-5569 o enviando un mensaje de texto al 915-443-2117. \nMartes\, Abril 21 y luego cada otro martes!  \n 4 – 6 PM \n3140 Cerrillos Rd (junto a El Paisano)
URL:https://www.vitalspaces.org/event/martes-de-costura/2026-05-19/
LOCATION:Vital Spaces @ 3140\, Vital Spaces @ 3140 Cerrillos Rd ste b\, Santa Fe\, NM\, 87507
CATEGORIES:En Español
ATTACH;FMTTYPE=image/jpeg:https://www.vitalspaces.org/wp-content/uploads/2026/03/Screen-Shot-2026-03-31-at-7.26.30-PM.jpg
END:VEVENT
END:VCALENDAR