BEGIN:VCALENDAR
VERSION:2.0
PRODID:-//Vital Spaces - ECPv6.15.20//NONSGML v1.0//EN
CALSCALE:GREGORIAN
METHOD:PUBLISH
X-ORIGINAL-URL:https://www.vitalspaces.org
X-WR-CALDESC:Events for Vital Spaces
REFRESH-INTERVAL;VALUE=DURATION:PT1H
X-Robots-Tag:noindex
X-PUBLISHED-TTL:PT1H
BEGIN:VTIMEZONE
TZID:America/Detroit
BEGIN:DAYLIGHT
TZOFFSETFROM:-0500
TZOFFSETTO:-0400
TZNAME:EDT
DTSTART:20260308T070000
END:DAYLIGHT
BEGIN:STANDARD
TZOFFSETFROM:-0400
TZOFFSETTO:-0500
TZNAME:EST
DTSTART:20261101T060000
END:STANDARD
BEGIN:DAYLIGHT
TZOFFSETFROM:-0500
TZOFFSETTO:-0400
TZNAME:EDT
DTSTART:20270314T070000
END:DAYLIGHT
BEGIN:STANDARD
TZOFFSETFROM:-0400
TZOFFSETTO:-0500
TZNAME:EST
DTSTART:20271107T060000
END:STANDARD
BEGIN:DAYLIGHT
TZOFFSETFROM:-0500
TZOFFSETTO:-0400
TZNAME:EDT
DTSTART:20280312T070000
END:DAYLIGHT
BEGIN:STANDARD
TZOFFSETFROM:-0400
TZOFFSETTO:-0500
TZNAME:EST
DTSTART:20281105T060000
END:STANDARD
END:VTIMEZONE
BEGIN:VEVENT
DTSTART;TZID=America/Detroit:20270411T110000
DTEND;TZID=America/Detroit:20270411T130000
DTSTAMP:20260423T083358
CREATED:20260423T024942Z
LAST-MODIFIED:20260423T024942Z
UID:10001001-1807441200-1807448400@www.vitalspaces.org
SUMMARY:Open Sewing with Aviva + Lo
DESCRIPTION:Bring your in progress sewing projects and your sewing machines! Aviva and Lo host a fun community sewing studio with lots of helpful tips and encouragement. \nEvery second Sunday | 11 AM – 1 PM \n3140 Cerrillos Rd
URL:https://www.vitalspaces.org/event/open-sewing-with-aviva-lo/2027-04-11/
LOCATION:Vital Spaces @ 3140\, Vital Spaces @ 3140 Cerrillos Rd ste b\, Santa Fe\, NM\, 87507
ATTACH;FMTTYPE=image/jpeg:https://www.vitalspaces.org/wp-content/uploads/2026/03/Sewing-Workshop-Flyer-final.jpg
END:VEVENT
END:VCALENDAR