BEGIN:VCALENDAR
VERSION:2.0
PRODID:-//Vital Spaces - ECPv6.15.20//NONSGML v1.0//EN
CALSCALE:GREGORIAN
METHOD:PUBLISH
X-WR-CALNAME:Vital Spaces
X-ORIGINAL-URL:https://www.vitalspaces.org
X-WR-CALDESC:Events for Vital Spaces
REFRESH-INTERVAL;VALUE=DURATION:PT1H
X-Robots-Tag:noindex
X-PUBLISHED-TTL:PT1H
BEGIN:VTIMEZONE
TZID:America/Detroit
BEGIN:DAYLIGHT
TZOFFSETFROM:-0500
TZOFFSETTO:-0400
TZNAME:EDT
DTSTART:20250309T070000
END:DAYLIGHT
BEGIN:STANDARD
TZOFFSETFROM:-0400
TZOFFSETTO:-0500
TZNAME:EST
DTSTART:20251102T060000
END:STANDARD
BEGIN:DAYLIGHT
TZOFFSETFROM:-0500
TZOFFSETTO:-0400
TZNAME:EDT
DTSTART:20260308T070000
END:DAYLIGHT
BEGIN:STANDARD
TZOFFSETFROM:-0400
TZOFFSETTO:-0500
TZNAME:EST
DTSTART:20261101T060000
END:STANDARD
BEGIN:DAYLIGHT
TZOFFSETFROM:-0500
TZOFFSETTO:-0400
TZNAME:EDT
DTSTART:20270314T070000
END:DAYLIGHT
BEGIN:STANDARD
TZOFFSETFROM:-0400
TZOFFSETTO:-0500
TZNAME:EST
DTSTART:20271107T060000
END:STANDARD
END:VTIMEZONE
BEGIN:VEVENT
DTSTART;VALUE=DATE:20260620
DTEND;VALUE=DATE:20260621
DTSTAMP:20260420T083106
CREATED:20260416T214904Z
LAST-MODIFIED:20260418T171920Z
UID:10000002-1781913600-1781999999@www.vitalspaces.org
SUMMARY:Juneteenth on the Plaza
DESCRIPTION:Juneteenth is coming and we’re opening up vendor spots for this year’s celebration! \nEvery year\, this gathering becomes even more beautiful and is a sharing of music\, culture\, stories\, and more. This day is about freedom\, culture\, and community and we’re calling you to bring your creativity\, and presence. Artists\, designers\, community builders\, food vendors\, info booths\, friends and fam this is for you. You’re not just selling\, you’re helping shape the experience. If you want to vend or bring an activation to the day please holler! \nJune 20th\, Santa Fe Plaza\, 3-9pm \nNo vendor fees. Spots are limited. Apply now. \nAPPLY HERE
URL:https://www.vitalspaces.org/event/juneteenth-on-the-plaza/
LOCATION:NM
ATTACH;FMTTYPE=image/jpeg:https://www.vitalspaces.org/wp-content/uploads/2026/04/Juneteenth-call-for-vendors-2026-1.jpg
END:VEVENT
BEGIN:VEVENT
DTSTART;TZID=America/Detroit:20260620T110000
DTEND;TZID=America/Detroit:20260620T130000
DTSTAMP:20260420T083106
CREATED:20260416T222630Z
LAST-MODIFIED:20260418T173043Z
UID:10000545-1781953200-1781960400@www.vitalspaces.org
SUMMARY:Free Community Art Closet
DESCRIPTION:Since 2020\, Vital Spaces has been giving away new and donated art supplies to hundreds of Santa Fe creatives\, youths\, and educators every month. This project helps provide supplies for those in need and also offers our community members a chance to reduce\, reuse and recycle! \nThis month\, we’re loaded up with lots of new finds andunique items! Everything from books\, magazines\, paint\, markers\, pencils\, paper\, yarn\, fabric\, decor\, wood pieces\, containers\, art kits\, and so much more. We also have some new supplies to offer such as crayons\, watercolor sets\, watercolor paper\, and canvases. \nThis event is free and open to everyone! Bring your shopping bags and bring your friends\, find some treasures\, and get inspired! \nAlready have too much stuff? We’ll take it! Donate any lightly used art supplies or other items every Thursday from 2pm to 4pm at our Annex Gallery. Or schedule a drop-off appointment by emailing us: contact@vitalspaces.org.
URL:https://www.vitalspaces.org/event/free-community-art-closet/2026-06-20/
LOCATION:Vital Spaces @ the Annex\, Vital Spaces 1600 St Michael's Dr\, Santa Fe\, NM\, 87505
CATEGORIES:Home Feature
ATTACH;FMTTYPE=image/jpeg:https://www.vitalspaces.org/wp-content/uploads/2024/12/Website-Art-Closet.jpg
END:VEVENT
END:VCALENDAR